BEGIN:VCALENDAR
VERSION:2.0
PRODID:-//Squarespace Inc/Squarespace 6//v6//EN
BEGIN:VEVENT
UID:59b05b60be42d69c95ee0b5a@squarespace.com
DTSTAMP:20170906T205427Z
DTSTART:20171025T233000Z
DTEND:20171026T013000Z
SUMMARY:MINDFULNESS FOR EXAM SUCCESS - A Workshop for Teens
END:VEVENT
END:VCALENDAR
