BEGIN:VCALENDAR
VERSION:2.0
PRODID:-//Squarespace Inc/Squarespace 6//v6//EN
BEGIN:VEVENT
UID:594f5c559f74564246801d8b@squarespace.com
DTSTAMP:20170705T001226Z
DTSTART:20170809T233000Z
DTEND:20170824T003000Z
SUMMARY:UNDERSTANDING YOUR CHAKRAS WORKSHOP SERIES
END:VEVENT
END:VCALENDAR
