BEGIN:VCALENDAR
VERSION:2.0
PRODID:-//Squarespace Inc/Squarespace 6//v6//EN
BEGIN:VEVENT
UID:59dc7607e3df281768b01731@squarespace.com
DTSTAMP:20171010T072616Z
DTSTART:20171118T163000Z
DTEND:20171118T223000Z
SUMMARY:REIKI 1 TRAINING 
END:VEVENT
END:VCALENDAR
